BEGIN:VCALENDAR
VERSION:2.0
PRODID:-//Edeforsbygden - ECPv6.5.1.5//NONSGML v1.0//EN
CALSCALE:GREGORIAN
METHOD:PUBLISH
X-WR-CALNAME:Edeforsbygden
X-ORIGINAL-URL:https://edeforsbygden.se
X-WR-CALDESC:Events for Edeforsbygden
REFRESH-INTERVAL;VALUE=DURATION:PT1H
X-Robots-Tag:noindex
X-PUBLISHED-TTL:PT1H
BEGIN:VTIMEZONE
TZID:Europe/Stockholm
BEGIN:DAYLIGHT
TZOFFSETFROM:+0100
TZOFFSETTO:+0200
TZNAME:CEST
DTSTART:20260329T010000
END:DAYLIGHT
BEGIN:STANDARD
TZOFFSETFROM:+0200
TZOFFSETTO:+0100
TZNAME:CET
DTSTART:20261025T010000
END:STANDARD
END:VTIMEZONE
BEGIN:VEVENT
DTSTART;TZID=Europe/Stockholm:20260426T110000
DTEND;TZID=Europe/Stockholm:20260426T120000
DTSTAMP:20260423T104026
CREATED:20260306T095328Z
LAST-MODIFIED:20260306T095328Z
UID:11026-1777201200-1777204800@edeforsbygden.se
SUMMARY:Söndagsgudstjänst
DESCRIPTION:Söndagsgudstjänst 26 april kl.11.00-12.00 i Edefors Kyrka. \nEmmi-Lie Spegel och Rebecka Asplund.
URL:https://edeforsbygden.se/event/sondagsgudstjanst/
LOCATION:Edefors kyrka\, Harads\, Norrbotten\, 96178\, Sverige
ATTACH;FMTTYPE=image/jpeg:https://edeforsbygden.se/wp-content/uploads/2024/11/bild-ljus-scaled-e1746773736554.jpg
END:VEVENT
END:VCALENDAR